BEGIN:VCALENDAR
VERSION:2.0
PRODID:-//olmacademy.org//eCatholic//EN
X-WR-TIMEZONE:LocalTZ
BEGIN:VTIMEZONE
TZID:LocalTZ
X-LIC-LOCATION:LocalTZ
BEGIN:DAYLIGHT
TZOFFSETFROM:-0500
TZOFFSETTO:-0400
TZNAME:LocalTZ
DTSTART:19700308T020000
RRULE:FREQ=YEARLY;BYMONTH=3;BYDAY=2SU
END:DAYLIGHT
BEGIN:STANDARD
TZOFFSETFROM:-0400
TZOFFSETTO:-0500
TZNAME:LocalTZ
DTSTART:19701101T020000
RRULE:FREQ=YEARLY;BYMONTH=11;BYDAY=1SU
END:STANDARD
END:VTIMEZONE
BEGIN:VEVENT
UID:2881332@olmacademy.org
DTSTAMP:20260424T192023Z
DTSTART:20260501T190000
DTEND:20260501T200000
SUMMARY:Handbag Bingo
END:VEVENT
BEGIN:VEVENT
UID:2881334@olmacademy.org
DTSTAMP:20260424T192023Z
DTSTART;VALUE=DATE:20260521
DTEND;VALUE=DATE:20260522
SUMMARY:OLMA Annual Golf Outing
END:VEVENT
BEGIN:VEVENT
UID:2881336@olmacademy.org
DTSTAMP:20260424T192023Z
DTSTART;VALUE=DATE:20260607
DTEND;VALUE=DATE:20260608
SUMMARY:OLMA Family Picnic
DESCRIPTION:Rain Date June 14
END:VEVENT
BEGIN:VEVENT
UID:2881678@olmacademy.org
DTSTAMP:20260424T192023Z
DTSTART:20260501T190000
DTEND:20260501T200000
SUMMARY:Rosary Challenger Kick Off - Grade 2 Leading the Rosary
END:VEVENT
BEGIN:VEVENT
UID:2881681@olmacademy.org
DTSTAMP:20260424T192023Z
DTSTART:20260505T093000
DTEND:20260505T103000
SUMMARY:First Communicants School Mass
END:VEVENT
BEGIN:VEVENT
UID:2881685@olmacademy.org
DTSTAMP:20260424T192023Z
DTSTART:20260508T093000
DTEND:20260508T103000
SUMMARY:Mother's Day Mass & hospitality
END:VEVENT
BEGIN:VEVENT
UID:2881690@olmacademy.org
DTSTAMP:20260424T192023Z
DTSTART:20260515T130000
DTEND:20260515T140000
SUMMARY:School Wide Rosary
END:VEVENT
BEGIN:VEVENT
UID:2881693@olmacademy.org
DTSTAMP:20260424T192023Z
DTSTART:20260517T093000
DTEND:20260517T103000
SUMMARY:SCHOOL SUNDAY MASS
DESCRIPTION:Students and their families are encouraged to attend the mass 
 in the school uniform. Students will receive a N.U.T. (no uniform today) c
 ard.
END:VEVENT
BEGIN:VEVENT
UID:2881695@olmacademy.org
DTSTAMP:20260424T192023Z
DTSTART:20260605T093000
DTEND:20260605T103000
SUMMARY:1st Friday Mass
DESCRIPTION:All grades are dismissed at 12 noon. Aftercare is available as
  usual. 
END:VEVENT
BEGIN:VEVENT
UID:2881699@olmacademy.org
DTSTAMP:20260424T192023Z
DTSTART:20260614T093000
DTEND:20260614T103000
SUMMARY:SCHOOL SUNDAY MASS
DESCRIPTION:Students and their families are encouraged to attend the mass 
 in the school uniform. Students will receive a N.U.T. (no uniform today) c
 ard.
END:VEVENT
BEGIN:VEVENT
UID:2881703@olmacademy.org
DTSTAMP:20260424T192023Z
DTSTART:20260612T093000
DTEND:20260612T103000
SUMMARY:8th Grade Class of 2026 Baccalaureate Mass
DESCRIPTION:Breakfast reception for 8th grade parents and students immedia
 tely following in the school gym.
END:VEVENT
BEGIN:VEVENT
UID:2881707@olmacademy.org
DTSTAMP:20260424T192023Z
DTSTART:20260612T170000
DTEND:20260612T180000
SUMMARY:8th Grade Class of 2026 Graduation
END:VEVENT
BEGIN:VEVENT
UID:2881818@olmacademy.org
DTSTAMP:20260424T192023Z
DTSTART;VALUE=DATE:20260501
DTEND;VALUE=DATE:20260502
SUMMARY:Noon Dismissal
DESCRIPTION:All students are dismissed at 12 noon. Aftercare is available 
 as usual.
END:VEVENT
BEGIN:VEVENT
UID:2881821@olmacademy.org
DTSTAMP:20260424T192023Z
DTSTART;VALUE=DATE:20260508
DTEND;VALUE=DATE:20260509
SUMMARY:Noon Dismissal - TEACHER APPRECIATION LUNCHEON
DESCRIPTION:All students are dismissed at 12 noon. Aftercare is available 
 as usual. 
END:VEVENT
BEGIN:VEVENT
UID:2881824@olmacademy.org
DTSTAMP:20260424T192023Z
DTSTART;VALUE=DATE:20260525
DTEND;VALUE=DATE:20260526
SUMMARY:Memorial Day
DESCRIPTION:NO SCHOOL
END:VEVENT
BEGIN:VEVENT
UID:2881827@olmacademy.org
DTSTAMP:20260424T192023Z
DTSTART:20260609T090000
DTEND:20260609T100000
SUMMARY:PreK3 Moving Up Ceremony and Reception
DESCRIPTION:Last day of school for PreK3 students - they are dismissed aft
 er their ceremony and reception
END:VEVENT
BEGIN:VEVENT
UID:2881829@olmacademy.org
DTSTAMP:20260424T192023Z
DTSTART:20260610T090000
DTEND:20260610T100000
SUMMARY:PreK 4 Graduation and Reception
DESCRIPTION:Last day of school for PreK4 students - they are dismissed aft
 er their ceremony and reception
END:VEVENT
BEGIN:VEVENT
UID:2881832@olmacademy.org
DTSTAMP:20260424T192023Z
DTSTART:20260611T090000
DTEND:20260611T100000
SUMMARY:Kindergarten Graduation and Reception
DESCRIPTION:Last day of school for Kindergarten students - they are dismis
 sed after their ceremony and reception
END:VEVENT
BEGIN:VEVENT
UID:2881843@olmacademy.org
DTSTAMP:20260424T192023Z
DTSTART;VALUE=DATE:20260615
DTEND;VALUE=DATE:20260616
SUMMARY:Noon Dismissal
END:VEVENT
BEGIN:VEVENT
UID:2881844@olmacademy.org
DTSTAMP:20260424T192023Z
DTSTART;VALUE=DATE:20260616
DTEND;VALUE=DATE:20260617
SUMMARY:Noon Dismissal
END:VEVENT
BEGIN:VEVENT
UID:2881846@olmacademy.org
DTSTAMP:20260424T192023Z
DTSTART;VALUE=DATE:20260617
DTEND;VALUE=DATE:20260618
SUMMARY:Noon Dismissal
END:VEVENT
BEGIN:VEVENT
UID:2881848@olmacademy.org
DTSTAMP:20260424T192023Z
DTSTART;VALUE=DATE:20260618
DTEND;VALUE=DATE:20260619
SUMMARY:Noon Dismissal
END:VEVENT
BEGIN:VEVENT
UID:2881850@olmacademy.org
DTSTAMP:20260424T192023Z
DTSTART;VALUE=DATE:20260619
DTEND;VALUE=DATE:20260620
SUMMARY:LAST DAY OF SCHOOL - Noon Dismissal
DESCRIPTION:Have a great summer!
END:VEVENT
BEGIN:VEVENT
UID:2881851@olmacademy.org
DTSTAMP:20260424T192023Z
DTSTART;VALUE=DATE:20260622
DTEND;VALUE=DATE:20260623
SUMMARY:Professional Day for Teachers - School Closed
END:VEVENT
END:VCALENDAR
